Workbook

Sheet produksjonsdata-Sm3
C2: Oil | E2: Condensate | F2: NGL | G2: Sum Liquid | H2: Gas *) | I2: Gas | J2: Oil Equivalents | K2: Condensate | L2: NGL | M2: Sum Liquid | N2: Oil Equivalents
C3: Forecast from December year before | D3: Actual production | E3: Actual production | F3: Actual production | G3: Actual production | H3: Forecast (actual calorific value) | I3: Actual production (actual calorific value) | J3: Actual production | K3: Forecast | L3: Forecast | M3: Forecast | N3: Forecast
A4: Year | B4: Month | C4: MSm³ | D4: MSm³ | E4: MSm³ | F4: MSm³ | G4: MSm³ | H4: GSm³ | I4: GSm³ | J4: MSm³ o.e | K4: MSm³ | L4: MSm³ | M4: MSm³ | N4: MSm³ o.e/day
C5: Olje | E5: Kondensat | F5: NGL | G5: Sum Væske | H5: Gass *) | I5: Gass | J5: SUM | K5: Kondensat | L5: NGL | M5: Sum væske | N5: SUM
C6: Prognose fra desember året før | D6: Faktisk produksjon | E6: Faktisk produksjon | F6: Faktisk produksjon | G6: Faktisk produksjon | H6: Prognose (faktisk varmeverdi) | I6: Faktisk produksjon (faktisk varmeverdi) | J6: Faktisk produksjon | K6: Prognose | L6: Prognose | M6: Prognose | N6: Prognose
A7: År | B7: Mnd | C7: MSm³ | D7: MSm³ | E7: MSm³ | F7: MSm³ | G7: MSm³ | H7: GSm³ | I7: GSm³ | J7: MSm³ o.e | K7: MSm³ | L7: MSm³ | M7: MSm³ | N7: MSm³ o.e/dag | O7: Dager i mnd
A8: 2025 | B8: 45658 | C8: 8.5261015 | D8: 8.682814 | E8: 0.059378 | F8: 1.007287 | G8: =SUM(D8:F8) -> 9.749479 | H8: 11.010655 | I8: 10.768933 | J8: =SUM(G8+I8) -> 20.518412 | K8: 0.096644084 | L8: 1.1398917 | M8: =L8+K8+C8 -> 9.7626372 | N8: =SUM(C8+H8+K8+L8)/O8 -> 0.67010619 | O8: =B9-B8 -> 31
A9: 2025 | B9: 45689 | C9: 7.5714777 | D9: 7.603146 | E9: 0.110761 | F9: 0.878764 | G9: =SUM(D9:F9) -> 8.592671 | H9: 9.5765228 | I9: 9.9804003 | J9: =SUM(G9+I9) -> 18.573071 | K9: 0.086409398 | L9: 0.98935601 | M9: =L9+K9+C9 -> 8.6472431 | N9: =SUM(C9+H9+K9+L9)/O9 -> 0.65084878 | O9: =B10-B9 -> 28
A10: 2025 | B10: 45717 | C10: 8.3125359 | D10: 8.660654 | E10: 0.098872 | F10: 0.974458 | G10: =SUM(D10:F10) -> 9.733984 | H10: 10.842848 | I10: 10.916022 | J10: =SUM(G10+I10) -> 20.650006 | K10: 0.093593835 | L10: 1.1610032 | M10: =L10+K10+C10 -> 9.5671329 | N10: =SUM(C10+H10+K10+L10)/O10 -> 0.65838648 | O10: =B11-B10 -> 31
A11: 2025 | B11: 45748 | C11: 8.4256442 | D11: 8.702363 | E11: 0.078013 | F11: 0.895666 | G11: =SUM(D11:F11) -> 9.676042 | H11: 10.06691 | I11: 10.258909 | J11: =SUM(G11+I11) -> 19.934951 | K11: 0.062899699 | L11: 1.0808689 | M11: =L11+K11+C11 -> 9.5694127 | N11: =SUM(C11+H11+K11+L11)/O11 -> 0.6545441 | O11: =B12-B11 -> 30
A12: 2025 | B12: 45778 | C12: 8.809354 | D12: 8.821484 | E12: 0.025886 | F12: 0.852658 | G12: =SUM(D12:F12) -> 9.700028 | H12: 9.1795273 | I12: 9.2663629 | J12: =SUM(G12+I12) -> 18.966391 | K12: 0.02884292 | L12: 1.0364391 | M12: =L12+K12+C12 -> 9.874636 | N12: =SUM(C12+H12+K12+L12)/O12 -> 0.61465043 | O12: =B13-B12 -> 31
A13: 2025 | B13: 45809 | C13: 7.7434901 | D13: 8.000518 | E13: 0.040721 | F13: 0.832701 | G13: =SUM(D13:F13) -> 8.87394 | H13: 8.5079286 | I13: 8.804729 | J13: =SUM(G13+I13) -> 17.678669 | K13: 0.026302688 | L13: 0.95557689 | M13: =L13+K13+C13 -> 8.7253697 | N13: =SUM(C13+H13+K13+L13)/O13 -> 0.57444328 | O13: =B14-B13 -> 30
A14: 2025 | B14: 45839 | C14: 8.9163376 | D14: 9.712074 | E14: 0.047768 | F14: 0.949912 | G14: =SUM(D14:F14) -> 10.709754 | H14: 9.9575726 | I14: 10.224552 | J14: =SUM(G14+I14) -> 20.934306 | K14: 0.050122671 | L14: 1.1195971 | M14: =L14+K14+C14 -> 10.086057 | N14: =SUM(C14+H14+K14+L14)/O14 -> 0.64656871 | O14: =B15-B14 -> 31
A15: 2025 | B15: 45870 | C15: 8.8588055 | D15: 9.639785 | E15: 0.088034 | F15: 0.917704 | G15: =SUM(D15:F15) -> 10.645523 | H15: 10.176712 | I15: 10.347326 | J15: =SUM(G15+I15) -> 20.992849 | K15: 0.07595191 | L15: 1.12832 | M15: =L15+K15+C15 -> 10.063077 | N15: =SUM(C15+H15+K15+L15)/O15 -> 0.65289643 | O15: =B16-B15 -> 31
A16: 2025 | B16: 45901 | C16: 8.2274412 | D16: 9.006323 | E16: 0.161857 | F16: 0.729811 | G16: =SUM(D16:F16) -> 9.897991 | H16: 8.6270817 | I16: 8.5180652 | J16: =SUM(G16+I16) -> 18.416056 | K16: 0.080697311 | L16: 1.0046281 | M16: =L16+K16+C16 -> 9.3127667 | N16: =SUM(C16+H16+K16+L16)/O16 -> 0.59799495 | O16: =B17-B16 -> 30
A17: 2025 | B17: 45931 | C17: 8.9306709 | D17: 9.367398 | E17: 0.106231 | F17: 0.882513 | G17: =SUM(D17:F17) -> 10.356142 | H17: 10.665487 | I17: 10.442982 | J17: =SUM(G17+I17) -> 20.799124 | K17: 0.093785089 | L17: 1.2954964 | M17: =L17+K17+C17 -> 10.319952 | N17: =SUM(C17+H17+K17+L17)/O17 -> 0.67694966 | O17: =B18-B17 -> 31
A18: 2025 | B18: 45962 | C18: 8.6035014 | D18: 8.948557 | E18: 0.106982 | F18: 0.902941 | G18: =SUM(D18:F18) -> 9.95848 | H18: 10.624373 | I18: 10.864 | J18: =SUM(G18+I18) -> 20.82248 | K18: 0.094565617 | L18: 1.3207286 | M18: =L18+K18+C18 -> 10.018796 | N18: =SUM(C18+H18+K18+L18)/O18 -> 0.68810561 | O18: =B19-B18 -> 30
A19: 2025 | B19: 45992 | C19: 9.19464 | D19: 9.66916 | E19: 0.108511 | F19: 1.028079 | G19: =SUM(D19:F19) -> 10.80575 | H19: 11.077656 | I19: 11.388375 | J19: =SUM(G19+I19) -> 22.194125 | K19: 0.098314693 | L19: 1.4073673 | M19: =L19+K19+C19 -> 10.700322 | N19: =SUM(C19+H19+K19+L19)/O19 -> 0.7025154 | O19: =B20-B19 -> 31
A20: 2026 | B20: 46023 | C20: 9.2650389 | D20: 9.8459486 | E20: 0.094562819 | F20: 0.99550461 | G20: =SUM(D20:F20) -> 10.936016 | H20: 10.727954 | I20: 11.289454 | J20: =SUM(G20+I20) -> 22.22547 | K20: 0.08997 | L20: 0.9511554 | M20: =L20+K20+C20 -> 10.306164 | N20: =SUM(C20+H20+K20+L20)/O20 -> 0.67851996 | O20: =B21-B20 -> 31
A21: 2026 | B21: 46054 | C21: 8.2966063 | G21: =SUM(D21:F21) -> 0 | H21: 10.159601 | J21: =SUM(G21+I21) -> 0 | K21: 0.08051 | L21: 0.93796989 | M21: =L21+K21+C21 -> 9.3150862 | N21: =SUM(C21+H21+K21+L21)/O21 -> 0.69552455 | O21: =B22-B21 -> 28
A22: 2026 | B22: 46082 | C22: 8.8641396 | G22: =SUM(D22:F22) -> 0 | H22: 10.887775 | J22: =SUM(G22+I22) -> 0 | K22: 0.0867 | L22: 1.0038398 | M22: =L22+K22+C22 -> 9.9546794 | N22: =SUM(C22+H22+K22+L22)/O22 -> 0.67233722 | O22: =B23-B22 -> 31
A23: 2026 | B23: 46113 | C23: 8.6219986 | G23: =SUM(D23:F23) -> 0 | H23: 9.9118578 | J23: =SUM(G23+I23) -> 0 | K23: 0.08473 | L23: 0.94347756 | M23: =L23+K23+C23 -> 9.6502062 | N23: =SUM(C23+H23+K23+L23)/O23 -> 0.6520688 | O23: =B24-B23 -> 30
A24: 2026 | B24: 46143 | C24: 7.9218646 | G24: =SUM(D24:F24) -> 0 | H24: 9.4217827 | J24: =SUM(G24+I24) -> 0 | K24: 0.08598 | L24: 0.87184421 | M24: =L24+K24+C24 -> 8.8796889 | N24: =SUM(C24+H24+K24+L24)/O24 -> 0.59037005 | O24: =B25-B24 -> 31
A25: 2026 | B25: 46174 | C25: 8.5604571 | G25: =SUM(D25:F25) -> 0 | H25: 9.4964498 | J25: =SUM(G25+I25) -> 0 | K25: 0.07948 | L25: 0.90070364 | M25: =L25+K25+C25 -> 9.5406407 | N25: =SUM(C25+H25+K25+L25)/O25 -> 0.63456968 | O25: =B26-B25 -> 30
A26: 2026 | B26: 46204 | C26: 8.9431175 | G26: =SUM(D26:F26) -> 0 | H26: 11.068262 | J26: =SUM(G26+I26) -> 0 | K26: 0.08622 | L26: 1.0410721 | M26: =L26+K26+C26 -> 10.07041 | N26: =SUM(C26+H26+K26+L26)/O26 -> 0.68189262 | O26: =B27-B26 -> 31
A27: 2026 | B27: 46235 | C27: 8.8864493 | G27: =SUM(D27:F27) -> 0 | H27: 10.806221 | J27: =SUM(G27+I27) -> 0 | K27: 0.08625 | L27: 0.9939099 | M27: =L27+K27+C27 -> 9.9666092 | N27: =SUM(C27+H27+K27+L27)/O27 -> 0.67009128 | O27: =B28-B27 -> 31
A28: 2026 | B28: 46266 | C28: 8.192853 | G28: =SUM(D28:F28) -> 0 | H28: 9.5966058 | J28: =SUM(G28+I28) -> 0 | K28: 0.08233 | L28: 0.89031693 | M28: =L28+K28+C28 -> 9.1655 | N28: =SUM(C28+H28+K28+L28)/O28 -> 0.62540353 | O28: =B29-B28 -> 30
A29: 2026 | B29: 46296 | C29: 8.5774933 | G29: =SUM(D29:F29) -> 0 | H29: 10.79228 | J29: =SUM(G29+I29) -> 0 | K29: 0.08648 | L29: 1.1969317 | M29: =L29+K29+C29 -> 9.860905 | N29: =SUM(C29+H29+K29+L29)/O29 -> 0.66623179 | O29: =B30-B29 -> 31
A30: 2026 | B30: 46327 | C30: 8.2928281 | G30: =SUM(D30:F30) -> 0 | H30: 10.695478 | J30: =SUM(G30+I30) -> 0 | K30: 0.08411 | L30: 1.199688 | M30: =L30+K30+C30 -> 9.5766262 | N30: =SUM(C30+H30+K30+L30)/O30 -> 0.67573681 | O30: =B31-B30 -> 30
A31: 2026 | B31: 46357 | C31: 8.6257686 | G31: =SUM(D31:F31) -> 0 | H31: 10.989533 | J31: =SUM(G31+I31) -> 0 | K31: 0.08669 | L31: 1.2021959 | M31: =L31+K31+C31 -> 9.9146545 | N31: =SUM(C31+H31+K31+L31)/O31 -> 0.67432862 | O31: =B32-B31 -> 31
B32: 46388
A34: Rød tekst er foreløpige tall.
A35: Red figures are preliminary.

Sheet produksjonsdata-per dag
C2: Oil | E2: Condensate | F2: NGL | G2: Sum Liquid | H2: Gas | I2: Gas | J2: Oil Equivalents | K2: Condensate | L2: NGL | M2: Sum Liquid | N2: Oil Equivalents
C3: Forecast from December year before | D3: Actual production | E3: Actual production | F3: Actual production | G3: Actual production | H3: Forecast (actual calorific value) | I3: Actual production (actual calorific value) | J3: Actual production | K3: Forecast | L3: Forecast | M3: Forecast | N3: Forecast
A4: Year | B4: Month | C4: Mill bbl/day | D4: Mill bbl/day | E4: Mill bbl/day | F4: Mill bbl/day | G4: Mill bbl/day | H4: Mill Sm³/day | I4: Mill Sm³/day | J4: Mill Sm³ o.e/day | K4: Mill bbl/day | L4: Mill bbl/day | M4: Mill bbl/day | N4: MSm³ o.e/day
C5: Olje | E5: Kondensat | F5: NGL | G5: Sum Væske | H5: Gass | I5: Gass | J5: SUM | K5: Kondensat | L5: NGL | M5: Sum væske | N5: SUM
C6: Prognose fra desember året før | D6: Faktisk produksjon | E6: Faktisk produksjon | F6: Faktisk produksjon | G6: Faktisk produksjon | H6: Prognose (faktisk varmeverdi) | I6: Faktisk produksjon (faktisk varmeverdi) | J6: Faktisk produksjon | K6: Prognose | L6: Prognose | M6: Prognose | N6: Prognose
A7: År | B7: Mnd | C7: mill fat/dag | D7: mill fat/dag | E7: mill fat/dag | F7: mill fat/dag | G7: mill fat/dag | H7: MSm³ /dag | I7: MSm³ /dag | J7: MSm³ o.e/dag | K7: mill fat/dag | L7: mill fat/dag | M7: mill fat/dag | N7: MSm³ o.e/dag | O7: Dager i mnd
A8: ='produksjonsdata-Sm3'!A8 -> 2025 | B8: ='produksjonsdata-Sm3'!B8 -> 45658 | C8: ='produksjonsdata-Sm3'!C8*6.29/'produksjonsdata-per dag'!$O8 -> 1.7299735 | D8: ='produksjonsdata-Sm3'!D8*6.29/'produksjonsdata-per dag'!$O8 -> 1.761771 | E8: ='produksjonsdata-Sm3'!E8*6.29/'produksjonsdata-per dag'!$O8 -> 0.012047988 | F8: ='produksjonsdata-Sm3'!F8*6.29/'produksjonsdata-per dag'!$O8 -> 0.20438178 | G8: ='produksjonsdata-Sm3'!G8*6.29/'produksjonsdata-per dag'!$O8 -> 1.9782007 | H8: ='produksjonsdata-Sm3'!H8*1000/'produksjonsdata-per dag'!$O8 -> 355.18241 | I8: ='produksjonsdata-Sm3'!I8*1000/'produksjonsdata-per dag'!$O8 -> 347.38493 | J8: ='produksjonsdata-Sm3'!J8/O8 -> 0.66188425 | K8: ='produksjonsdata-Sm3'!K8*6.29/'produksjonsdata-per dag'!$O8 -> 0.019609396 | L8: ='produksjonsdata-Sm3'!L8*6.29/'produksjonsdata-per dag'!$O8 -> 0.23128769 | M8: =L8+K8+C8 -> 1.9808706 | N8: ='produksjonsdata-Sm3'!N8 -> 0.67010619 | O8: =B9-B8 -> 31 | P8: =H8/L8 -> 1535.6736
A9: ='produksjonsdata-Sm3'!A9 -> 2025 | B9: ='produksjonsdata-Sm3'!B9 -> 45689 | C9: ='produksjonsdata-Sm3'!C9*6.29/'produksjonsdata-per dag'!$O9 -> 1.7008784 | D9: ='produksjonsdata-Sm3'!D9*6.29/'produksjonsdata-per dag'!$O9 -> 1.7079924 | E9: ='produksjonsdata-Sm3'!E9*6.29/'produksjonsdata-per dag'!$O9 -> 0.024881667 | F9: ='produksjonsdata-Sm3'!F9*6.29/'produksjonsdata-per dag'!$O9 -> 0.19740806 | G9: ='produksjonsdata-Sm3'!G9*6.29/'produksjonsdata-per dag'!$O9 -> 1.9302822 | H9: ='produksjonsdata-Sm3'!H9*1000/'produksjonsdata-per dag'!$O9 -> 342.01867 | I9: ='produksjonsdata-Sm3'!I9*1000/'produksjonsdata-per dag'!$O9 -> 356.44287 | J9: ='produksjonsdata-Sm3'!J9/O9 -> 0.66332397 | K9: ='produksjonsdata-Sm3'!K9*6.29/'produksjonsdata-per dag'!$O9 -> 0.019411254 | L9: ='produksjonsdata-Sm3'!L9*6.29/'produksjonsdata-per dag'!$O9 -> 0.22225176 | M9: =L9+K9+C9 -> 1.9425414 | N9: ='produksjonsdata-Sm3'!N9 -> 0.65084878 | O9: =B10-B9 -> 28 | P9: =H9/L9 -> 1538.8795
A10: ='produksjonsdata-Sm3'!A10 -> 2025 | B10: ='produksjonsdata-Sm3'!B10 -> 45717 | C10: ='produksjonsdata-Sm3'!C10*6.29/'produksjonsdata-per dag'!$O10 -> 1.6866403 | D10: ='produksjonsdata-Sm3'!D10*6.29/'produksjonsdata-per dag'!$O10 -> 1.7572746 | E10: ='produksjonsdata-Sm3'!E10*6.29/'produksjonsdata-per dag'!$O10 -> 0.020061448 | F10: ='produksjonsdata-Sm3'!F10*6.29/'produksjonsdata-per dag'!$O10 -> 0.19772067 | G10: ='produksjonsdata-Sm3'!G10*6.29/'produksjonsdata-per dag'!$O10 -> 1.9750568 | H10: ='produksjonsdata-Sm3'!H10*1000/'produksjonsdata-per dag'!$O10 -> 349.76929 | I10: ='produksjonsdata-Sm3'!I10*1000/'produksjonsdata-per dag'!$O10 -> 352.12975 | J10: ='produksjonsdata-Sm3'!J10/O10 -> 0.66612924 | K10: ='produksjonsdata-Sm3'!K10*6.29/'produksjonsdata-per dag'!$O10 -> 0.018990491 | L10: ='produksjonsdata-Sm3'!L10*6.29/'produksjonsdata-per dag'!$O10 -> 0.2355713 | M10: =L10+K10+C10 -> 1.9412021 | N10: ='produksjonsdata-Sm3'!N10 -> 0.65838648 | O10: =B11-B10 -> 31 | P10: =H10/L10 -> 1484.7704
A11: ='produksjonsdata-Sm3'!A11 -> 2025 | B11: ='produksjonsdata-Sm3'!B11 -> 45748 | C11: ='produksjonsdata-Sm3'!C11*6.29/'produksjonsdata-per dag'!$O11 -> 1.7665767 | D11: ='produksjonsdata-Sm3'!D11*6.29/'produksjonsdata-per dag'!$O11 -> 1.8245954 | E11: ='produksjonsdata-Sm3'!E11*6.29/'produksjonsdata-per dag'!$O11 -> 0.016356726 | F11: ='produksjonsdata-Sm3'!F11*6.29/'produksjonsdata-per dag'!$O11 -> 0.1877913 | G11: ='produksjonsdata-Sm3'!G11*6.29/'produksjonsdata-per dag'!$O11 -> 2.0287435 | H11: ='produksjonsdata-Sm3'!H11*1000/'produksjonsdata-per dag'!$O11 -> 335.56367 | I11: ='produksjonsdata-Sm3'!I11*1000/'produksjonsdata-per dag'!$O11 -> 341.96365 | J11: ='produksjonsdata-Sm3'!J11/O11 -> 0.66449838 | K11: ='produksjonsdata-Sm3'!K11*6.29/'produksjonsdata-per dag'!$O11 -> 0.01318797 | L11: ='produksjonsdata-Sm3'!L11*6.29/'produksjonsdata-per dag'!$O11 -> 0.22662217 | M11: =L11+K11+C11 -> 2.0063869 | N11: ='produksjonsdata-Sm3'!N11 -> 0.6545441 | O11: =B12-B11 -> 30 | P11: =H11/L11 -> 1480.7186
A12: ='produksjonsdata-Sm3'!A12 -> 2025 | B12: ='produksjonsdata-Sm3'!B12 -> 45778 | C12: ='produksjonsdata-Sm3'!C12*6.29/'produksjonsdata-per dag'!$O12 -> 1.7874463 | D12: ='produksjonsdata-Sm3'!D12*6.29/'produksjonsdata-per dag'!$O12 -> 1.7899076 | E12: ='produksjonsdata-Sm3'!E12*6.29/'produksjonsdata-per dag'!$O12 -> 0.0052523529 | F12: ='produksjonsdata-Sm3'!F12*6.29/'produksjonsdata-per dag'!$O12 -> 0.17300706 | G12: ='produksjonsdata-Sm3'!G12*6.29/'produksjonsdata-per dag'!$O12 -> 1.968167 | H12: ='produksjonsdata-Sm3'!H12*1000/'produksjonsdata-per dag'!$O12 -> 296.11378 | I12: ='produksjonsdata-Sm3'!I12*1000/'produksjonsdata-per dag'!$O12 -> 298.91493 | J12: ='produksjonsdata-Sm3'!J12/O12 -> 0.61181906 | K12: ='produksjonsdata-Sm3'!K12*6.29/'produksjonsdata-per dag'!$O12 -> 0.0058523214 | L12: ='produksjonsdata-Sm3'!L12*6.29/'produksjonsdata-per dag'!$O12 -> 0.21029684 | M12: =L12+K12+C12 -> 2.0035955 | N12: ='produksjonsdata-Sm3'!N12 -> 0.61465043 | O12: =B13-B12 -> 31 | P12: =H12/L12 -> 1408.0753
A13: ='produksjonsdata-Sm3'!A13 -> 2025 | B13: ='produksjonsdata-Sm3'!B13 -> 45809 | C13: ='produksjonsdata-Sm3'!C13*6.29/'produksjonsdata-per dag'!$O13 -> 1.6235518 | D13: ='produksjonsdata-Sm3'!D13*6.29/'produksjonsdata-per dag'!$O13 -> 1.6774419 | E13: ='produksjonsdata-Sm3'!E13*6.29/'produksjonsdata-per dag'!$O13 -> 0.0085378363 | F13: ='produksjonsdata-Sm3'!F13*6.29/'produksjonsdata-per dag'!$O13 -> 0.17458964 | G13: ='produksjonsdata-Sm3'!G13*6.29/'produksjonsdata-per dag'!$O13 -> 1.8605694 | H13: ='produksjonsdata-Sm3'!H13*1000/'produksjonsdata-per dag'!$O13 -> 283.59762 | I13: ='produksjonsdata-Sm3'!I13*1000/'produksjonsdata-per dag'!$O13 -> 293.49097 | J13: ='produksjonsdata-Sm3'!J13/O13 -> 0.58928897 | K13: ='produksjonsdata-Sm3'!K13*6.29/'produksjonsdata-per dag'!$O13 -> 0.005514797 | L13: ='produksjonsdata-Sm3'!L13*6.29/'produksjonsdata-per dag'!$O13 -> 0.20035262 | M13: =L13+K13+C13 -> 1.8294192 | N13: ='produksjonsdata-Sm3'!N13 -> 0.57444328 | O13: =B14-B13 -> 30 | P13: =H13/L13 -> 1415.4924
A14: ='produksjonsdata-Sm3'!A14 -> 2025 | B14: ='produksjonsdata-Sm3'!B14 -> 45839 | C14: ='produksjonsdata-Sm3'!C14*6.29/'produksjonsdata-per dag'!$O14 -> 1.8091537 | D14: ='produksjonsdata-Sm3'!D14*6.29/'produksjonsdata-per dag'!$O14 -> 1.9706111 | E14: ='produksjonsdata-Sm3'!E14*6.29/'produksjonsdata-per dag'!$O14 -> 0.0096922813 | F14: ='produksjonsdata-Sm3'!F14*6.29/'produksjonsdata-per dag'!$O14 -> 0.19274021 | G14: ='produksjonsdata-Sm3'!G14*6.29/'produksjonsdata-per dag'!$O14 -> 2.1730436 | H14: ='produksjonsdata-Sm3'!H14*1000/'produksjonsdata-per dag'!$O14 -> 321.21202 | I14: ='produksjonsdata-Sm3'!I14*1000/'produksjonsdata-per dag'!$O14 -> 329.82426 | J14: ='produksjonsdata-Sm3'!J14/O14 -> 0.67530019 | K14: ='produksjonsdata-Sm3'!K14*6.29/'produksjonsdata-per dag'!$O14 -> 0.010170052 | L14: ='produksjonsdata-Sm3'!L14*6.29/'produksjonsdata-per dag'!$O14 -> 0.22716987 | M14: =L14+K14+C14 -> 2.0464936 | N14: ='produksjonsdata-Sm3'!N14 -> 0.64656871 | O14: =B15-B14 -> 31 | P14: =H14/L14 -> 1413.9728
A15: ='produksjonsdata-Sm3'!A15 -> 2025 | B15: ='produksjonsdata-Sm3'!B15 -> 45870 | C15: ='produksjonsdata-Sm3'!C15*6.29/'produksjonsdata-per dag'!$O15 -> 1.7974802 | D15: ='produksjonsdata-Sm3'!D15*6.29/'produksjonsdata-per dag'!$O15 -> 1.9559435 | E15: ='produksjonsdata-Sm3'!E15*6.29/'produksjonsdata-per dag'!$O15 -> 0.017862383 | F15: ='produksjonsdata-Sm3'!F15*6.29/'produksjonsdata-per dag'!$O15 -> 0.1862051 | G15: ='produksjonsdata-Sm3'!G15*6.29/'produksjonsdata-per dag'!$O15 -> 2.160011 | H15: ='produksjonsdata-Sm3'!H15*1000/'produksjonsdata-per dag'!$O15 -> 328.28103 | I15: ='produksjonsdata-Sm3'!I15*1000/'produksjonsdata-per dag'!$O15 -> 333.78471 | J15: ='produksjonsdata-Sm3'!J15/O15 -> 0.67718868 | K15: ='produksjonsdata-Sm3'!K15*6.29/'produksjonsdata-per dag'!$O15 -> 0.015410888 | L15: ='produksjonsdata-Sm3'!L15*6.29/'produksjonsdata-per dag'!$O15 -> 0.22893976 | M15: =L15+K15+C15 -> 2.0418309 | N15: ='produksjonsdata-Sm3'!N15 -> 0.65289643 | O15: =B16-B15 -> 31 | P15: =H15/L15 -> 1433.9188
A16: ='produksjonsdata-Sm3'!A16 -> 2025 | B16: ='produksjonsdata-Sm3'!B16 -> 45901 | C16: ='produksjonsdata-Sm3'!C16*6.29/'produksjonsdata-per dag'!$O16 -> 1.7250202 | D16: ='produksjonsdata-Sm3'!D16*6.29/'produksjonsdata-per dag'!$O16 -> 1.8883257 | E16: ='produksjonsdata-Sm3'!E16*6.29/'produksjonsdata-per dag'!$O16 -> 0.033936018 | F16: ='produksjonsdata-Sm3'!F16*6.29/'produksjonsdata-per dag'!$O16 -> 0.15301704 | G16: ='produksjonsdata-Sm3'!G16*6.29/'produksjonsdata-per dag'!$O16 -> 2.0752788 | H16: ='produksjonsdata-Sm3'!H16*1000/'produksjonsdata-per dag'!$O16 -> 287.56939 | I16: ='produksjonsdata-Sm3'!I16*1000/'produksjonsdata-per dag'!$O16 -> 283.93551 | J16: ='produksjonsdata-Sm3'!J16/O16 -> 0.61386854 | K16: ='produksjonsdata-Sm3'!K16*6.29/'produksjonsdata-per dag'!$O16 -> 0.016919536 | L16: ='produksjonsdata-Sm3'!L16*6.29/'produksjonsdata-per dag'!$O16 -> 0.21063703 | M16: =L16+K16+C16 -> 1.9525767 | N16: ='produksjonsdata-Sm3'!N16 -> 0.59799495 | O16: =B17-B16 -> 30 | P16: =H16/L16 -> 1365.2366
A17: ='produksjonsdata-Sm3'!A17 -> 2025 | B17: ='produksjonsdata-Sm3'!B17 -> 45931 | C17: ='produksjonsdata-Sm3'!C17*6.29/'produksjonsdata-per dag'!$O17 -> 1.8120619 | D17: ='produksjonsdata-Sm3'!D17*6.29/'produksjonsdata-per dag'!$O17 -> 1.9006753 | E17: ='produksjonsdata-Sm3'!E17*6.29/'produksjonsdata-per dag'!$O17 -> 0.021554613 | F17: ='produksjonsdata-Sm3'!F17*6.29/'produksjonsdata-per dag'!$O17 -> 0.17906473 | G17: ='produksjonsdata-Sm3'!G17*6.29/'produksjonsdata-per dag'!$O17 -> 2.1012946 | H17: ='produksjonsdata-Sm3'!H17*1000/'produksjonsdata-per dag'!$O17 -> 344.04797 | I17: ='produksjonsdata-Sm3'!I17*1000/'produksjonsdata-per dag'!$O17 -> 336.87038 | J17: ='produksjonsdata-Sm3'!J17/O17 -> 0.67093948 | K17: ='produksjonsdata-Sm3'!K17*6.29/'produksjonsdata-per dag'!$O17 -> 0.019029297 | L17: ='produksjonsdata-Sm3'!L17*6.29/'produksjonsdata-per dag'!$O17 -> 0.26286041 | M17: =L17+K17+C17 -> 2.0939516 | N17: ='produksjonsdata-Sm3'!N17 -> 0.67694966 | O17: =B18-B17 -> 31 | P17: =H17/L17 -> 1308.8619
A18: ='produksjonsdata-Sm3'!A18 -> 2025 | B18: ='produksjonsdata-Sm3'!B18 -> 45962 | C18: ='produksjonsdata-Sm3'!C18*6.29/'produksjonsdata-per dag'!$O18 -> 1.8038675 | D18: ='produksjonsdata-Sm3'!D18*6.29/'produksjonsdata-per dag'!$O18 -> 1.8762141 | E18: ='produksjonsdata-Sm3'!E18*6.29/'produksjonsdata-per dag'!$O18 -> 0.022430559 | F18: ='produksjonsdata-Sm3'!F18*6.29/'produksjonsdata-per dag'!$O18 -> 0.18931663 | G18: ='produksjonsdata-Sm3'!G18*6.29/'produksjonsdata-per dag'!$O18 -> 2.0879613 | H18: ='produksjonsdata-Sm3'!H18*1000/'produksjonsdata-per dag'!$O18 -> 354.14575 | I18: ='produksjonsdata-Sm3'!I18*1000/'produksjonsdata-per dag'!$O18 -> 362.13333 | J18: ='produksjonsdata-Sm3'!J18/O18 -> 0.69408267 | K18: ='produksjonsdata-Sm3'!K18*6.29/'produksjonsdata-per dag'!$O18 -> 0.019827258 | L18: ='produksjonsdata-Sm3'!L18*6.29/'produksjonsdata-per dag'!$O18 -> 0.27691276 | M18: =L18+K18+C18 -> 2.1006075 | N18: ='produksjonsdata-Sm3'!N18 -> 0.68810561 | O18: =B19-B18 -> 30 | P18: =H18/L18 -> 1278.9073
A19: ='produksjonsdata-Sm3'!A19 -> 2025 | B19: ='produksjonsdata-Sm3'!B19 -> 45992 | C19: ='produksjonsdata-Sm3'!C19*6.29/'produksjonsdata-per dag'!$O19 -> 1.8656221 | D19: ='produksjonsdata-Sm3'!D19*6.29/'produksjonsdata-per dag'!$O19 -> 1.9619038 | E19: ='produksjonsdata-Sm3'!E19*6.29/'produksjonsdata-per dag'!$O19 -> 0.022017232 | F19: ='produksjonsdata-Sm3'!F19*6.29/'produksjonsdata-per dag'!$O19 -> 0.20860055 | G19: ='produksjonsdata-Sm3'!G19*6.29/'produksjonsdata-per dag'!$O19 -> 2.1925215 | H19: ='produksjonsdata-Sm3'!H19*1000/'produksjonsdata-per dag'!$O19 -> 357.34373 | I19: ='produksjonsdata-Sm3'!I19*1000/'produksjonsdata-per dag'!$O19 -> 367.36692 | J19: ='produksjonsdata-Sm3'!J19/O19 -> 0.7159395 | K19: ='produksjonsdata-Sm3'!K19*6.29/'produksjonsdata-per dag'!$O19 -> 0.019948368 | L19: ='produksjonsdata-Sm3'!L19*6.29/'produksjonsdata-per dag'!$O19 -> 0.28555937 | M19: =L19+K19+C19 -> 2.1711298 | N19: ='produksjonsdata-Sm3'!N19 -> 0.7025154 | O19: =B20-B19 -> 31 | P19: =H19/L19 -> 1251.3816
... A31: ='produksjonsdata-Sm3'!A31 -> 2026 | B31: ='produksjonsdata-Sm3'!B31 -> 46357 | C31: ='produksjonsdata-Sm3'!C31*6.29/'produksjonsdata-per dag'!$O31 -> 1.7501963 | D31: ='produksjonsdata-Sm3'!D31*6.29/'produksjonsdata-per dag'!$O31 -> 0 | E31: ='produksjonsdata-Sm3'!E31*6.29/'produksjonsdata-per dag'!$O31 -> 0 | F31: ='produksjonsdata-Sm3'!F31*6.29/'produksjonsdata-per dag'!$O31 -> 0 | G31: ='produksjonsdata-Sm3'!G31*6.29/'produksjonsdata-per dag'!$O31 -> 0 | H31: ='produksjonsdata-Sm3'!H31*1000/'produksjonsdata-per dag'!$O31 -> 354.50106 | I31: ='produksjonsdata-Sm3'!I31*1000/'produksjonsdata-per dag'!$O31 -> 0 | J31: ='produksjonsdata-Sm3'!J31/O31 -> 0 | K31: ='produksjonsdata-Sm3'!K31*6.29/'produksjonsdata-per dag'!$O31 -> 0.017589681 | L31: ='produksjonsdata-Sm3'!L31*6.29/'produksjonsdata-per dag'!$O31 -> 0.24392943 | M31: =L31+K31+C31 -> 2.0117154 | N31: ='produksjonsdata-Sm3'!N31 -> 0.67432862 | O31: =B32-B31 -> 31 | P31: =H31/L31 -> 1453.2935
B32: ='produksjonsdata-Sm3'!B32 -> 46388 | N32: =SUM(C32,H32,K32,L32)/31 -> 0
A36: Rød tekst er foreløpige tall.
A37: Red figures are preliminary.
