Workbook
Name Assessment_year: 'Discovery&Prospect data-case 2'!$K$4
Name Assessment_year: 'Discovery&Prospect data-case 3'!$K$4
Name Assessment_year: 'Discovery&Prospect data-case 1'!$K$4
Name Block: 'Discovery&Prospect data-case 2'!$C$2
Name Block: 'Discovery&Prospect data-case 3'!$C$2
Name Block: 'Discovery&Prospect data-case 1'!$C$2
Name Case: LegalValues!$A$2:$A$4
Name CaseNo: LegalValues!$B$2:$B$7
Name CaseNo1: LegalValues!$C$2:$C$4
Name CaseNo2: LegalValues!$D$2:$D$3
Name CaseNo3: LegalValues!$E$2
Name Charge__P3____0.00_1.00: 'Discovery&Prospect data-case 2'!$G$16
Name Charge__P3____0.00_1.00: 'Discovery&Prospect data-case 3'!$G$16
Name Charge__P3____0.00_1.00: 'Discovery&Prospect data-case 1'!$G$16
Name Dato: 'Discovery&Prospect data-case 2'!$G$36
Name Dato: 'Discovery&Prospect data-case 3'!$G$36
Name Dato: 'Discovery&Prospect data-case 1'!$G$36
Name Depth_to_top_of_prospect_Base: 'Discovery&Prospect data-case 2'!$D$18
Name Depth_to_top_of_prospect_Base: 'Discovery&Prospect data-case 3'!$D$18
Name Depth_to_top_of_prospect_Base: 'Discovery&Prospect data-case 1'!$D$18
Name Depth_to_top_of_prospect_P10: 'Discovery&Prospect data-case 2'!$E$18
Name Depth_to_top_of_prospect_P10: 'Discovery&Prospect data-case 3'!$E$18
Name Depth_to_top_of_prospect_P10: 'Discovery&Prospect data-case 1'!$E$18
Name Depth_to_top_of_prospect_P90: 'Discovery&Prospect data-case 2'!$C$18
Name Depth_to_top_of_prospect_P90: 'Discovery&Prospect data-case 3'!$C$18
Name Depth_to_top_of_prospect_P90: 'Discovery&Prospect data-case 1'!$C$18
Name Discovery_Prosp_Lead: 'Discovery&Prospect data-case 2'!$G$2
Name Discovery_Prosp_Lead: 'Discovery&Prospect data-case 3'!$G$2
Name Discovery_Prosp_Lead: 'Discovery&Prospect data-case 1'!$G$2
Name DiscoveryProspectLead: LegalValues!$G$2:$G$4
Name Gas_case__0.00_1.00: 'Discovery&Prospect data-case 2'!$G$15
Name Gas_case__0.00_1.00: 'Discovery&Prospect data-case 3'!$G$15
Name Gas_case__0.00_1.00: 'Discovery&Prospect data-case 1'!$G$15
Name Innrapp._av_geolog_init: 'Discovery&Prospect data-case 2'!$G$35
Name Innrapp._av_geolog_init: 'Discovery&Prospect data-case 3'!$G$35
Name Innrapp._av_geolog_init: 'Discovery&Prospect data-case 1'!$G$35
Name Kart_dato: 'Discovery&Prospect data-case 2'!$K$36
Name Kart_dato: 'Discovery&Prospect data-case 3'!$K$36
Name Kart_dato: 'Discovery&Prospect data-case 1'!$K$36
Name Kart_nr: 'Discovery&Prospect data-case 2'!$K$37
Name Kart_nr: 'Discovery&Prospect data-case 3'!$K$37
Name Kart_nr: 'Discovery&Prospect data-case 1'!$K$37
Name Kart_oppdatert: 'Discovery&Prospect data-case 2'!$K$35
Name Kart_oppdatert: 'Discovery&Prospect data-case 3'!$K$35
Name Kart_oppdatert: 'Discovery&Prospect data-case 1'!$K$35
Name Oil___Gas_case__0.00_1.00: 'Discovery&Prospect data-case 2'!$I$15
Name Oil___Gas_case__0.00_1.00: 'Discovery&Prospect data-case 3'!$I$15
Name Oil___Gas_case__0.00_1.00: 'Discovery&Prospect data-case 1'!$I$15
Name Oil_case__0.00_1.00: 'Discovery&Prospect data-case 2'!$E$15
Name Oil_case__0.00_1.00: 'Discovery&Prospect data-case 3'!$E$15
Name Oil_case__0.00_1.00: 'Discovery&Prospect data-case 1'!$E$15
Name Play_name: 'Discovery&Prospect data-case 2'!$C$3
Name Play_name: 'Discovery&Prospect data-case 3'!$C$3
Name Play_name: 'Discovery&Prospect data-case 1'!$C$3
Name Prosp_ID__or_New: 'Discovery&Prospect data-case 2'!$I$2
Name Prosp_ID__or_New: 'Discovery&Prospect data-case 3'!$I$2
Name Prosp_ID__or_New: 'Discovery&Prospect data-case 1'!$I$2
Name Prospect_name: 'Discovery&Prospect data-case 2'!$E$2
Name Prospect_name: 'Discovery&Prospect data-case 3'!$E$2
Name Prospect_name: 'Discovery&Prospect data-case 1'!$E$2

Sheet Guidelines & Definitions
B1: Table 4: Discovery and Prospect data Last updated 24.4.2026
B2: A new prospect form has been introduced, described in more detail below.
B3: Each file shall include one prospect only (or lead or discovery). For prospects with alternative cases for hydrocarbon phases (oil vs gas vs oil&gas case) the cases shall be reported one by one, one worksheet per case - in the same file. For discoveries and prospects, all relevant data fields should be completed. The pink cells represent the minimum data fields to be completed for leads. If possible, also enter pressure and temperature at top reservoir. For input values with decimals, the legal decimal separator will be "." or "," dependent on the setup in your version of excel. A listing with names of a selection of structural elements and litho- /chronostratigraphic names are attached in a separate work sheet in this file. Cells coloured yellow are for NOD use only. Names of fields/discoveries must be spelled identically to the NOD’s Factpages. Shapefiles Alongside Table 4: Discovery and Prospect data Sodir shall also receive a shape file of the outline of the discovery/prospect/lead. At least one polygon for Base (mode/mean) must be provided for all discoveries/ leads reported in "Table 4: Discovery and prospect data". For all prospects, polygons for P90, Base (mode/mean) and P10 must be included. The names of all discovery/prospects/leads must be spelled the same in all tables/files.
B4: Definitions:
B5: Discovery
B6: One or several petroleum deposits discovered in the same well, in which through testing, sampling or logging there has been established a probability of the existence of mobile petroleum (includes both commercial and technical discovery).
B7: Prospect
B8: A possible petroleum trap with a mappable, delimited rock volume.
B9: Lead
B10: A possible petroleum trap where available data coverage and quality is insufficient for proper mapping and delimitation of the rock volume.
B11: Play
B12: A geographically and stratigraphically restricted area where a set of specific geological factors are present, making it possible to discover petroleum in producible quantities. Such geological factors are reservoir rocks, traps, mature source rocks and migration paths, and timing. All fields, discoveries and prospects within the same play are characterised by the play's specific set of geological factors.
... B35: The proportion of the originally in-place resources which can be recovered from the prospect.

Sheet Discovery&Prospect data-case 1
B1: Table 4: Discovery and Prospect data (Enclose map)
B2: Block | D2: Prospect name | F2: Discovery/Prosp/Lead | H2: Prosp ID (or New!) | I2: NOD will insert value | J2: NOD approved (Y/N)
B3: Play name | C3: NOD will insert value | D3: New Play (Y/N) | F3: Outside play (Y/N)
B4: Oil, Gas or O&G case: | D4: Reported by company | F4: Reference document | J4: Assessment year
B5: This is case no.: | D5: Structural element | F5: Type of trap | H5: Water depth [m MSL] (>0) | J5: Seismic database (2D/3D)
B6: Resources IN PLACE and RECOVERABLE | D6: Main phase | H6: Associated phase
B7: Volumes, this case | D7: Low (P90) | E7: Base, Mode | F7: Base, Mean | G7: High (P10) | H7: Low (P90) | I7: Base, Mode | J7: Base, Mean | K7: High (P10)
B8: In place resources | C8: Oil [106 Sm3] (>0.00)
C9: Gas [109 Sm3] (>0.00)
B10: Recoverable resources | C10: Oil [106 Sm3] (>0.00)
C11: Gas [109 Sm3] (>0.00)
B12: Reservoir Chrono (from) | D12: Reservoir litho (from) | F12: Source Rock, chrono primary | H12: Source Rock, litho primary | J12: Seal, Chrono
B13: Reservoir Chrono (to) | D13: Reservoir litho (to) | F13: Source Rock, chrono secondary | H13: Source Rock, litho secondary | J13: Seal, Litho
B14: Probability [fraction]
B15: Total (oil + gas + oil & gas case ) (0.00-1.00) | D15: Oil case (0.00-1.00) | F15: Gas case (0.00-1.00) | H15: Oil & Gas case (0.00-1.00)
B16: Reservoir (P1) (0.00-1.00) | D16: Trap (P2) (0.00-1.00) | F16: Charge (P3) (0.00-1.00) | H16: Retention (P4) (0.00-1.00)
B17: Parametres: | C17: Low (P90) | D17: Base | E17: High (P10) | F17: Comments
B18: Depth to top of prospect [m MSL] (> 0)
B19: Area of closure [km2] (> 0.0)
B20: Reservoir thickness [m] (> 0)
B21: HC column in prospect [m] (> 0)
B22: Gross rock vol. [109 m3] (> 0.000)
B23: Net / Gross [fraction] (0.00-1.00)
B24: Porosity [fraction] (0.00-1.00)
B25: Permeability [mD] (> 0.0)
B26: Water Saturation [fraction] (0.00-1.00)
B27: Bg [Rm3/Sm3] (< 1.0000)
B28: 1/Bo [Sm3/Rm3] (< 1.00)
B29: GOR, free gas [Sm3/Sm3] (> 0)
... B33: Recov. factor, gas main phase [fraction] (0.00-1.00)
B34: Recov. factor, liquid ass. phase [fraction] (0.00-1.00) | F34: For NOD use:
B35: Temperature, top res [oC] (>0) | F35: Innrapp. av geolog-init: | G35: NOD will insert value | H35: Registrert - init: | I35: NOD will insert value | J35: Kart oppdatert | K35: NOD will insert value
B36: Pressure, top res [bar] (>0) | F36: Dato: | G36: NOD will insert value | H36: Registrert Dato: | I36: NOD will insert value | J36: Kart dato | K36: NOD will insert value
B37: Cut off criteria for N/G calculation | C37: 1. | D37: 2. | E37: 3. | J37: Kart nr | K37: NOD will insert value

Sheet Discovery&Prospect data-case 2
B1: Table 4: Discovery and Prospect data (Enclose map)
B2: Block | C2: =Prospect_name -> 0 | D2: Prospect name | E2: ='Discovery&Prospect data-case 1'!E2 -> 0 | F2: Discovery/Prosp/Lead | H2: Prosp ID (or New!) | I2: NOD will insert value | J2: NOD approved (Y/N)
B3: Play name | C3: NOD will insert value | D3: New Play (Y/N) | F3: Outside play (Y/N)
B4: Oil, Gas or O&G case: | D4: Reported by company | E4: ='Discovery&Prospect data-case 1'!E4 -> 0 | F4: Reference document | G4: ='Discovery&Prospect data-case 1'!G4 -> 0 | J4: Assessment year | K4: ='Discovery&Prospect data-case 1'!K4 -> 0
B5: This is case no.: | D5: Structural element | E5: ='Discovery&Prospect data-case 1'!E5 -> 0 | F5: Type of trap | G5: ='Discovery&Prospect data-case 1'!G5 -> 0 | H5: Water depth [m MSL] (>0) | I5: ='Discovery&Prospect data-case 1'!I5 -> 0 | J5: Seismic database (2D/3D)
B6: Resources IN PLACE and RECOVERABLE | D6: Main phase | H6: Associated phase
B7: Volumes, this case | D7: Low (P90) | E7: Base, Mode | F7: Base, Mean | G7: High (P10) | H7: Low (P90) | I7: Base, Mode | J7: Base, Mean | K7: High (P10)
B8: In place resources | C8: Oil [106 Sm3] (>0.00)
C9: Gas [109 Sm3] (>0.00)
B10: Recoverable resources | C10: Oil [106 Sm3] (>0.00)
C11: Gas [109 Sm3] (>0.00)
B12: Reservoir Chrono (from) | C12: ='Discovery&Prospect data-case 1'!C12 -> 0 | D12: Reservoir litho (from) | E12: ='Discovery&Prospect data-case 1'!E12 -> 0 | F12: Source Rock, chrono primary | G12: ='Discovery&Prospect data-case 1'!G12 -> 0 | H12: Source Rock, litho primary | I12: ='Discovery&Prospect data-case 1'!I12 -> 0 | J12: Seal, Chrono | K12: ='Discovery&Prospect data-case 1'!K12 -> 0
B13: Reservoir Chrono (to) | C13: ='Discovery&Prospect data-case 1'!C13 -> 0 | D13: Reservoir litho (to) | E13: ='Discovery&Prospect data-case 1'!E13 -> 0 | F13: Source Rock, chrono secondary | G13: ='Discovery&Prospect data-case 1'!G13 -> 0 | H13: Source Rock, litho secondary | I13: ='Discovery&Prospect data-case 1'!I13 -> 0 | J13: Seal, Litho | K13: ='Discovery&Prospect data-case 1'!K13 -> 0
B14: Probability [fraction]
B15: Total (oil + gas + oil & gas case ) (0.00-1.00) | C15: ='Discovery&Prospect data-case 1'!C15 -> 0 | D15: Oil case (0.00-1.00) | E15: ='Discovery&Prospect data-case 1'!E15 -> 0 | F15: Gas case (0.00-1.00) | G15: ='Discovery&Prospect data-case 1'!G15 -> 0 | H15: Oil & Gas case (0.00-1.00) | I15: ='Discovery&Prospect data-case 1'!I15 -> 0
B16: Reservoir (P1) (0.00-1.00) | C16: ='Discovery&Prospect data-case 1'!C16 -> 0 | D16: Trap (P2) (0.00-1.00) | E16: ='Discovery&Prospect data-case 1'!E16 -> 0 | F16: Charge (P3) (0.00-1.00) | G16: ='Discovery&Prospect data-case 1'!G16 -> 0 | H16: Retention (P4) (0.00-1.00) | I16: ='Discovery&Prospect data-case 1'!I16 -> 0
B17: Parametres: | C17: Low (P90) | D17: Base | E17: High (P10) | F17: Comments
B18: Depth to top of prospect [m MSL] (> 0)
B19: Area of closure [km2] (> 0.0)
B20: Reservoir thickness [m] (> 0)
B21: HC column in prospect [m] (> 0)
B22: Gross rock vol. [109 m3] (> 0.000)
B23: Net / Gross [fraction] (0.00-1.00)
B24: Porosity [fraction] (0.00-1.00)
B25: Permeability [mD] (> 0.0)
B26: Water Saturation [fraction] (0.00-1.00)
B27: Bg [Rm3/Sm3] (< 1.0000)
B28: 1/Bo [Sm3/Rm3] (< 1.00)
B29: GOR, free gas [Sm3/Sm3] (> 0)
... B33: Recov. factor, gas main phase [fraction] (0.00-1.00)
B34: Recov. factor, liquid ass. phase [fraction] (0.00-1.00) | F34: For NOD use:
B35: Temperature, top res [oC] (>0) | F35: Innrapp. av geolog-init: | G35: NOD will insert value | H35: Registrert - init: | I35: NOD will insert value | J35: Kart oppdatert | K35: NOD will insert value
B36: Pressure, top res [bar] (>0) | F36: Dato: | G36: NOD will insert value | H36: Registrert Dato: | I36: NOD will insert value | J36: Kart dato | K36: NOD will insert value
B37: Cut off criteria for N/G calculation | C37: 1. | D37: 2. | E37: 3. | J37: Kart nr | K37: NOD will insert value

Sheet Discovery&Prospect data-case 3
B1: Table 4: Discovery and Prospect data (Enclose map)
B2: Block | C2: ='Discovery&Prospect data-case 1'!C2 -> 0 | D2: Prospect name | E2: ='Discovery&Prospect data-case 1'!E2 -> 0 | F2: Discovery/Prosp/Lead | H2: Prosp ID (or New!) | I2: NOD will insert value | J2: NOD approved (Y/N)
B3: Play name | C3: NOD will insert value | D3: New Play (Y/N) | F3: Outside play (Y/N)
B4: Oil, Gas or O&G case: | D4: Reported by company | E4: ='Discovery&Prospect data-case 1'!E4 -> 0 | F4: Reference document | G4: ='Discovery&Prospect data-case 1'!G4 -> 0 | J4: Assessment year | K4: ='Discovery&Prospect data-case 1'!K4 -> 0
B5: This is case no.: | D5: Structural element | E5: ='Discovery&Prospect data-case 1'!E5 -> 0 | F5: Type of trap | G5: ='Discovery&Prospect data-case 1'!G5 -> 0 | H5: Water depth [m MSL] (>0) | I5: ='Discovery&Prospect data-case 1'!I5 -> 0 | J5: Seismic database (2D/3D)
B6: Resources IN PLACE and RECOVERABLE | D6: Main phase | H6: Associated phase
B7: Volumes, this case | D7: Low (P90) | E7: Base, Mode | F7: Base, Mean | G7: High (P10) | H7: Low (P90) | I7: Base, Mode | J7: Base, Mean | K7: High (P10)
B8: In place resources | C8: Oil [106 Sm3] (>0.00)
C9: Gas [109 Sm3] (>0.00)
B10: Recoverable resources | C10: Oil [106 Sm3] (>0.00)
C11: Gas [109 Sm3] (>0.00)
B12: Reservoir Chrono (from) | C12: ='Discovery&Prospect data-case 1'!C12 -> 0 | D12: Reservoir litho (from) | E12: ='Discovery&Prospect data-case 1'!E12 -> 0 | F12: Source Rock, chrono primary | G12: ='Discovery&Prospect data-case 1'!G12 -> 0 | H12: Source Rock, litho primary | I12: ='Discovery&Prospect data-case 1'!I12 -> 0 | J12: Seal, Chrono | K12: ='Discovery&Prospect data-case 1'!K12 -> 0
B13: Reservoir Chrono (to) | C13: ='Discovery&Prospect data-case 1'!C13 -> 0 | D13: Reservoir litho (to) | E13: ='Discovery&Prospect data-case 1'!E13 -> 0 | F13: Source Rock, chrono secondary | G13: ='Discovery&Prospect data-case 1'!G13 -> 0 | H13: Source Rock, litho secondary | I13: ='Discovery&Prospect data-case 1'!I13 -> 0 | J13: Seal, Litho | K13: ='Discovery&Prospect data-case 1'!K13 -> 0
B14: Probability [fraction]
B15: Total (oil + gas + oil & gas case ) (0.00-1.00) | C15: ='Discovery&Prospect data-case 1'!C15 -> 0 | D15: Oil case (0.00-1.00) | E15: ='Discovery&Prospect data-case 1'!E15 -> 0 | F15: Gas case (0.00-1.00) | G15: ='Discovery&Prospect data-case 1'!G15 -> 0 | H15: Oil & Gas case (0.00-1.00) | I15: ='Discovery&Prospect data-case 1'!I15 -> 0
B16: Reservoir (P1) (0.00-1.00) | C16: ='Discovery&Prospect data-case 1'!C16 -> 0 | D16: Trap (P2) (0.00-1.00) | E16: ='Discovery&Prospect data-case 1'!E16 -> 0 | F16: Charge (P3) (0.00-1.00) | G16: ='Discovery&Prospect data-case 1'!G16 -> 0 | H16: Retention (P4) (0.00-1.00) | I16: ='Discovery&Prospect data-case 1'!I16 -> 0
B17: Parametres: | C17: Low (P90) | D17: Base | E17: High (P10) | F17: Comments
B18: Depth to top of prospect [m MSL] (> 0)
B19: Area of closure [km2] (> 0.0)
B20: Reservoir thickness [m] (> 0)
B21: HC column in prospect [m] (> 0)
B22: Gross rock vol. [109 m3] (> 0.000)
B23: Net / Gross [fraction] (0.00-1.00)
B24: Porosity [fraction] (0.00-1.00)
B25: Permeability [mD] (> 0.0)
B26: Water Saturation [fraction] (0.00-1.00)
B27: Bg [Rm3/Sm3] (< 1.0000)
B28: 1/Bo [Sm3/Rm3] (< 1.00)
B29: GOR, free gas [Sm3/Sm3] (> 0)
... B33: Recov. factor, gas main phase [fraction] (0.00-1.00)
B34: Recov. factor, liquid ass. phase [fraction] (0.00-1.00) | F34: For NOD use:
B35: Temperature, top res [oC] (>0) | F35: Innrapp. av geolog-init: | G35: NOD will insert value | H35: Registrert - init: | I35: NOD will insert value | J35: Kart oppdatert | K35: NOD will insert value
B36: Pressure, top res [bar] (>0) | F36: Dato: | G36: NOD will insert value | H36: Registrert Dato: | I36: NOD will insert value | J36: Kart dato | K36: NOD will insert value
B37: Cut off criteria for N/G calculation | C37: 1. | D37: 2. | E37: 3. | J37: Kart nr | K37: NOD will insert value

Sheet Stratigraphy & Struct. elements
A1: Structural elements (North Sea) | C1: Structural elements (Norwegian Sea) | E1: Structural elements (Barents Sea) | G1: Chronostratigraphy (ICS) | I1: Lithostratigraphy (North Sea) | K1: Lithostratigraphy (Norwegian Sea) | M1: Lithostratigraphy (Barents Sea)
A2: Name | B2: Level | C2: Name | D2: Level | E2: Name | F2: Level | G2: Name | H2: Level
A3: ØYGARDEN FAULT ZONE | B3: 2 | C3: VØRING BASIN | D3: 2 | E3: BJARMELAND PLATFORM | F3: 2 | G3: DEVONIAN | H3: 1
A4: EAST SHETLAND BASIN | B4: 2 | C4: RÅS BASIN | D4: 3 | E4: GARDARBANKEN HIGH | F4: 3 | G4: Lower | H4: 2
A5: TAMPEN SPUR | B5: 3 | C5: HELLAND-HANSEN ARCH | D5: 4 | E5: HAAPET DOME | F5: 3 | G5: Lochkovian | H5: 3
A6: MAKRELL HORST | B6: 3 | C6: SLETTRINGEN RIDGE | D6: 4 | E6: HOOP FAULT COMPLEX | F6: 3 | G6: Pragian | H6: 3
A7: VIKING GRABEN | B7: 2 | C7: GRIP HIGH | D7: 4 | E7: MAUD BASIN | F7: 3 | G7: Emsian | H7: 3
A8: MARFLO SPUR | B8: 3 | C8: TRÆNA BASIN | D8: 3 | E8: MERCURIUS HIGH | F8: 3 | G8: Middle | H8: 2
A9: LOMRE TERRACE | B9: 3 | C9: NÅGRIND SYNCLINE | D9: 3 | E9: NORSEL HIGH | F9: 3 | G9: Eifelian | H9: 3 | K9: For Lithostratigrahic names, please refer to www.sodir.no (fact pages)
A10: SLEIPNER TERRACE | B10: 3 | C10: NYK HIGH | D10: 4 | E10: NYSLEPPEN FAULT COMPLEX | F10: 3 | G10: Givetian | H10: 3
A11: SOGN GRABEN | B11: 2 | C11: UTGARD HIGH | D11: 4 | E11: POLSTJERNA FAULT COMP | F11: 3 | G11: Upper | H11: 2
A12: MÅLØY TERRACE | B12: 3 | C12: HEL GRABEN | D12: 3 | E12: SAMSON DOME | F12: 3 | G12: Frasnian | H12: 3
A13: SELJE HORST | B13: 4 | C13: NAGLFAR DOME | D13: 4 | E13: SVALIS DOME | F13: 3 | G13: Famennian | H13: 3
A14: UER TERRACE | B14: 3 | C14: FENRIS GRABEN | D14: 3 | E14: SWAEN GRABEN | F14: 3 | G14: CARBONIFEROUS | H14: 1
A15: HORDA PLATFORM | B15: 2 | C15: FLES FAULT COMPLEX | D15: 3 | E15: BJØRNØYA BASIN | F15: 2 | G15: Missisippian Lower | H15: 2
A16: UTSIRA HIGH | B16: 3 | C16: REVFALLET FAULT COMPLEX | D16: 3 | E16: FINGERDJUPET SUB-BASIN | F16: 3 | G16: Tournaisian | H16: 3
A17: STORD BASIN | B17: 3 | C17: KLAKK FAULT COMPLEX | D17: 3 | E17: LEIRDJUPET FAULT COMP | F17: 3 | G17: Missisippian Middle | H17: 2
A18: PATCH BANK RIDGE | B18: 3 | C18: SURT LINEAMENT | D18: 3 | E18: VESLEMØY HIGH | F18: 3 | G18: Visean | H18: 3
A19: BRAGE HORST | B19: 3 | C19: RYM FAULT ZONE | D19: 4 | E19: BJØRNØYRENNA F. COMP | F19: 2 | G19: Missisippian Upper | H19: 2
A20: BRAGE FAULT | B20: 3 | C20: GJALLAR RIDGE | D20: 3 | E20: EDGEØYA PLATFORM | F20: 2 | G20: Serpukhovian | H20: 3
A21: BJØRGVIN ARCH | B21: 3 | C21: DØNNA TERRACE | D21: 3 | E21: FEDYNSKY HIGH | F21: 2 | G21: Pennsylvanian Lower | H21: 2
... A47: HIDRA HIGH | B47: 3 | C47: YLVINGEN FAULT ZONE | D47: 3 | E47: YERMAK PLATEAU | F47: 2 | G47: Ladinian | H47: 3
A48: STEINBIT TERRACE | B48: 3 | C48: BREMSTEIN FAULT COMPLEX | D48: 3 | G48: Upper | H48: 2
A49: PIGGVAR TERRACE | B49: 3 | C49: VINGLEIA FAULT COMPLEX | D49: 3 | G49: Carnian | H49: 3
A50: BREIFLABB BASIN | B50: 3 | C50: FROAN BASIN | D50: 3 | G50: Norian | H50: 3
A51: FEDA GRABEN | B51: 3 | C51: FRØYA HIGH | D51: 3 | G51: Rhaetian | H51: 3
A52: GERTRUD GRABEN | B52: 3 | C52: MØRE BASIN | D52: 2 | G52: JURASSIC | H52: 1
A53: LINDESNES RIDGE | B53: 3 | C53: MØRE-TRØNDELAG F COM | D53: 3 | G53: Lower | H53: 2
A54: ÅL BASIN | B54: 3 | C54: MANET RIDGE | D54: 4 | G54: Hettangian | H54: 3
A55: GRENSEN NOSE | B55: 3 | C55: GNAUSEN HIGH | D55: 4 | G55: Sinemurian | H55: 3
A56: JOSEPHINE HIGH | B56: 3 | C56: GISKE HIGH | D56: 4 | G56: Pliensbachian | H56: 3
A57: SØGNE BASIN | B57: 3 | C57: GOSSA HIGH | D57: 4 | G57: Toarcian | H57: 3
C58: ONA HIGH | D58: 4 | G58: Middle | H58: 2
C59: MAGNUS BASIN | D59: 4 | G59: Aalenian | H59: 3
C60: MARULK BASIN | D60: 4 | G60: Bajocian | H60: 3
C61: SLØREBOTN SUB-BASIN | D61: 4 | G61: Bathonian | H61: 3
C62: ORMEN LANGE DOME | D62: 3 | G62: Cellovian | H62: 3
C63: VIGRA HIGH | D63: 3 | G63: Upper | H63: 2
C64: MODGUNN ARCH | D64: 4 | G64: Oxfordian | H64: 3
C65: MØRE MARGINAL HIGH | D65: 2 | G65: Kimmeridgian | H65: 3
C66: FÆRØY-SHETLAND ESCARPMENT | D66: 3 | G66: Tithonian | H66: 3
C67: VESTFJORDEN BASIN | D67: 2 | G67: CRETACEOUS | H67: 1
C68: LOFOTEN RIDGE | D68: 2 | G68: Lower | H68: 2
C69: RIBBAN BASIN | D69: 2 | G69: Berriasian | H69: 3
... C76: VESTERDJUPET FAULT ZONE | D76: 2 | G76: Cenomanian | H76: 3
G77: Turonian | H77: 3
G78: Coniacian | H78: 3
G79: Santonian | H79: 3
G80: Campanian | H80: 3
G81: Maastrichtian | H81: 3
G82: PALEOGENE | H82: 1
G83: Paleocene | H83: 2
G84: Danian | H84: 3
G85: Selandian | H85: 3
G86: Thanetian | H86: 3
G87: Eocene | H87: 2
G88: Ypresian | H88: 3
... G111: Holocene | H111: 2

Sheet LegalValues
A1: Case | B1: CaseNo | C1: CaseNo1 | D1: CaseNo2 | E1: CaseNo3 | F1: YesNo | G1: DiscoveryProspectLead | H1: SeismicData
A2: Oil | B2: 1 of 1 | C2: 1 of 1 | D2: 2 of 2 | E2: 3 of 3 | F2: Yes | G2: Discovery | H2: 2D
A3: Gas | B3: 1 of 2 | C3: 1 of 2 | D3: 2 of 3 | F3: No | G3: Prospect | H3: 3D
A4: Oil&Gas | B4: 2 of 2 | C4: 1 of 3 | G4: Lead
B5: 1 of 3
B6: 2 of 3
B7: 3 of 3
